BEGIN:VCALENDAR
VERSION:2.0
PRODID:-//Stoik Body Company  - ECPv6.15.20//NONSGML v1.0//EN
CALSCALE:GREGORIAN
METHOD:PUBLISH
X-WR-CALNAME:Stoik Body Company 
X-ORIGINAL-URL:https://stoikbodycompany.com
X-WR-CALDESC:Events for Stoik Body Company 
REFRESH-INTERVAL;VALUE=DURATION:PT1H
X-Robots-Tag:noindex
X-PUBLISHED-TTL:PT1H
BEGIN:VTIMEZONE
TZID:America/Chicago
BEGIN:DAYLIGHT
TZOFFSETFROM:-0600
TZOFFSETTO:-0500
TZNAME:CDT
DTSTART:20250309T080000
END:DAYLIGHT
BEGIN:STANDARD
TZOFFSETFROM:-0500
TZOFFSETTO:-0600
TZNAME:CST
DTSTART:20251102T070000
END:STANDARD
BEGIN:DAYLIGHT
TZOFFSETFROM:-0600
TZOFFSETTO:-0500
TZNAME:CDT
DTSTART:20260308T080000
END:DAYLIGHT
BEGIN:STANDARD
TZOFFSETFROM:-0500
TZOFFSETTO:-0600
TZNAME:CST
DTSTART:20261101T070000
END:STANDARD
BEGIN:DAYLIGHT
TZOFFSETFROM:-0600
TZOFFSETTO:-0500
TZNAME:CDT
DTSTART:20270314T080000
END:DAYLIGHT
BEGIN:STANDARD
TZOFFSETFROM:-0500
TZOFFSETTO:-0600
TZNAME:CST
DTSTART:20271107T070000
END:STANDARD
END:VTIMEZONE
BEGIN:VEVENT
DTSTART;VALUE=DATE:20260603
DTEND;VALUE=DATE:20260604
DTSTAMP:20260421T064107
CREATED:20260420T120913Z
LAST-MODIFIED:20260420T120913Z
UID:1871-1780444800-1780531199@stoikbodycompany.com
SUMMARY:Global Running Day
DESCRIPTION:Celebrating Global Running Day to promote health and wellness.
URL:https://stoikbodycompany.com/event/global-running-day/
END:VEVENT
BEGIN:VEVENT
DTSTART;VALUE=DATE:20260613
DTEND;VALUE=DATE:20260614
DTSTAMP:20260421T064107
CREATED:20260413T064425Z
LAST-MODIFIED:20260413T064425Z
UID:1450-1781308800-1781395199@stoikbodycompany.com
SUMMARY:Global Wellness Day - Stoik Body Co
DESCRIPTION:Global Wellness Day puts the focus on feeling better\, moving better\, and taking ownership of your health. For Stoik\, that lines up with the idea that recovery is not passive rest but a deliberate part of performance and everyday well-being.
URL:https://stoikbodycompany.com/event/global-wellness-day-stoik-body-co/
END:VEVENT
BEGIN:VEVENT
DTSTART;VALUE=DATE:20260621
DTEND;VALUE=DATE:20260622
DTSTAMP:20260421T064107
CREATED:20260420T121310Z
LAST-MODIFIED:20260420T121310Z
UID:1874-1782000000-1782086399@stoikbodycompany.com
SUMMARY:International Day of Yoga
DESCRIPTION:Celebrating International Day of Yoga to promote health and wellness.
URL:https://stoikbodycompany.com/event/international-day-of-yoga/
END:VEVENT
END:VCALENDAR