BEGIN:VCALENDAR
VERSION:2.0
PRODID:-//Stoik Body Company  - ECPv6.15.20//NONSGML v1.0//EN
CALSCALE:GREGORIAN
METHOD:PUBLISH
X-ORIGINAL-URL:https://stoikbodycompany.com
X-WR-CALDESC:Events for Stoik Body Company 
REFRESH-INTERVAL;VALUE=DURATION:PT1H
X-Robots-Tag:noindex
X-PUBLISHED-TTL:PT1H
BEGIN:VTIMEZONE
TZID:America/Chicago
BEGIN:DAYLIGHT
TZOFFSETFROM:-0600
TZOFFSETTO:-0500
TZNAME:CDT
DTSTART:20250309T080000
END:DAYLIGHT
BEGIN:STANDARD
TZOFFSETFROM:-0500
TZOFFSETTO:-0600
TZNAME:CST
DTSTART:20251102T070000
END:STANDARD
BEGIN:DAYLIGHT
TZOFFSETFROM:-0600
TZOFFSETTO:-0500
TZNAME:CDT
DTSTART:20260308T080000
END:DAYLIGHT
BEGIN:STANDARD
TZOFFSETFROM:-0500
TZOFFSETTO:-0600
TZNAME:CST
DTSTART:20261101T070000
END:STANDARD
BEGIN:DAYLIGHT
TZOFFSETFROM:-0600
TZOFFSETTO:-0500
TZNAME:CDT
DTSTART:20270314T080000
END:DAYLIGHT
BEGIN:STANDARD
TZOFFSETFROM:-0500
TZOFFSETTO:-0600
TZNAME:CST
DTSTART:20271107T070000
END:STANDARD
END:VTIMEZONE
BEGIN:VEVENT
DTSTART;VALUE=DATE:20260501
DTEND;VALUE=DATE:20260601
DTSTAMP:20260421T053414
CREATED:20260413T064425Z
LAST-MODIFIED:20260413T064425Z
UID:1448-1777593600-1780271999@stoikbodycompany.com
SUMMARY:National Physical Fitness & Sports Month - Stoik Body Co
DESCRIPTION:May is a month-long reminder that training\, movement\, and recovery all belong in the same conversation. Stoik is highlighting National Physical Fitness and Sports Month as a timely cue to move with more intention\, train consistently\, and build a body that can keep showing up.
URL:https://stoikbodycompany.com/event/national-physical-fitness-sports-month-stoik-body-co/
END:VEVENT
BEGIN:VEVENT
DTSTART;VALUE=DATE:20260527
DTEND;VALUE=DATE:20260528
DTSTAMP:20260421T053414
CREATED:20260413T064425Z
LAST-MODIFIED:20260413T064425Z
UID:1449-1779840000-1779926399@stoikbodycompany.com
SUMMARY:National Senior Health & Fitness Day - Stoik Body Co
DESCRIPTION:National Senior Health & Fitness Day is a strong fit for Stoik’s message that movement quality\, strength\, and recovery matter at every age. It is a good moment to spotlight sustainable training\, mobility\, and staying active for the long haul.
URL:https://stoikbodycompany.com/event/national-senior-health-fitness-day-stoik-body-co/
END:VEVENT
BEGIN:VEVENT
DTSTART;VALUE=DATE:20260527
DTEND;VALUE=DATE:20260528
DTSTAMP:20260421T053414
CREATED:20260420T120032Z
LAST-MODIFIED:20260420T120032Z
UID:1869-1779840000-1779926399@stoikbodycompany.com
SUMMARY:National Senior Health & Fitness Day
DESCRIPTION:Celebrating National Senior Health & Fitness Day to promote health and wellness.
URL:https://stoikbodycompany.com/event/national-senior-health-fitness-day/
END:VEVENT
END:VCALENDAR